BEGIN:VCALENDAR
VERSION:2.0
PRODID:-//Yaseen Arabic School - ECPv5.8.0//NONSGML v1.0//EN
CALSCALE:GREGORIAN
METHOD:PUBLISH
X-WR-CALNAME:Yaseen Arabic School
X-ORIGINAL-URL:https://yaseenarabicschool.com
X-WR-CALDESC:Events for Yaseen Arabic School
BEGIN:VTIMEZONE
TZID:UTC
BEGIN:STANDARD
TZOFFSETFROM:+0000
TZOFFSETTO:+0000
TZNAME:UTC
DTSTART:20210101T000000
END:STANDARD
END:VTIMEZONE
BEGIN:VEVENT
DTSTART;VALUE=DATE:20220702
DTEND;VALUE=DATE:20220703
DTSTAMP:20260421T235830
CREATED:20210627T112536Z
LAST-MODIFIED:20210715T103334Z
UID:956-1656720000-1656806399@yaseenarabicschool.com
SUMMARY:End of Year Exams
DESCRIPTION:
URL:https://yaseenarabicschool.com/event/end-of-year-exams/
LOCATION:Yaseen Arabic School\, Preston Park Primary School\, College Road\, HA9 8RJ\, Wembley\, Wembley\, United Kingdom
CATEGORIES:Exams
END:VEVENT
BEGIN:VEVENT
DTSTART;VALUE=DATE:20220702
DTEND;VALUE=DATE:20220703
DTSTAMP:20260421T235830
CREATED:20210627T112119Z
LAST-MODIFIED:20210715T103539Z
UID:948-1656720000-1656806399@yaseenarabicschool.com
SUMMARY:Last day of 3rd Term
DESCRIPTION:
URL:https://yaseenarabicschool.com/event/last-day-of-3rd-term/
LOCATION:Yaseen Arabic School\, Preston Park Primary School\, College Road\, HA9 8RJ\, Wembley\, Wembley\, United Kingdom
CATEGORIES:Holidays
ATTACH;FMTTYPE=image/jpeg:https://yaseenarabicschool.com/wp-content/uploads/2021/07/WhatsApp-Image-2021-07-15-at-00.23.04-2.jpeg
END:VEVENT
BEGIN:VEVENT
DTSTART;VALUE=DATE:20220604
DTEND;VALUE=DATE:20220605
DTSTAMP:20260421T235830
CREATED:20210627T112018Z
LAST-MODIFIED:20210715T103340Z
UID:946-1654300800-1654387199@yaseenarabicschool.com
SUMMARY:Half Term 2022
DESCRIPTION:
URL:https://yaseenarabicschool.com/event/half-term-2022-2/
LOCATION:Yaseen Arabic School\, Preston Park Primary School\, College Road\, HA9 8RJ\, Wembley\, Wembley\, United Kingdom
CATEGORIES:Half term
END:VEVENT
BEGIN:VEVENT
DTSTART;VALUE=DATE:20220507
DTEND;VALUE=DATE:20220508
DTSTAMP:20260421T235830
CREATED:20210627T111924Z
LAST-MODIFIED:20210715T103347Z
UID:944-1651881600-1651967999@yaseenarabicschool.com
SUMMARY:1st day of 3rd Term
DESCRIPTION:
URL:https://yaseenarabicschool.com/event/1st-day-of-3rd-term/
LOCATION:Yaseen Arabic School\, Preston Park Primary School\, College Road\, HA9 8RJ\, Wembley\, Wembley\, United Kingdom
CATEGORIES:Regular classes
END:VEVENT
BEGIN:VEVENT
DTSTART;VALUE=DATE:20220423
DTEND;VALUE=DATE:20220501
DTSTAMP:20260421T235830
CREATED:20210627T112451Z
LAST-MODIFIED:20210715T103353Z
UID:954-1650672000-1651363199@yaseenarabicschool.com
SUMMARY:Ramadhan Holiday
DESCRIPTION:
URL:https://yaseenarabicschool.com/event/ramadhan-holiday/
LOCATION:Yaseen Arabic School\, Preston Park Primary School\, College Road\, HA9 8RJ\, Wembley\, Wembley\, United Kingdom
CATEGORIES:Holidays
END:VEVENT
BEGIN:VEVENT
DTSTART;VALUE=DATE:20220402
DTEND;VALUE=DATE:20220403
DTSTAMP:20260421T235830
CREATED:20210627T111840Z
LAST-MODIFIED:20210715T103359Z
UID:942-1648857600-1648943999@yaseenarabicschool.com
SUMMARY:Last day of 2nd Term
DESCRIPTION:Last day of 2nd Term
URL:https://yaseenarabicschool.com/event/last-day-of-2nd-term/
LOCATION:Yaseen Arabic School\, Preston Park Primary School\, College Road\, HA9 8RJ\, Wembley\, Wembley\, United Kingdom
CATEGORIES:Holidays
END:VEVENT
BEGIN:VEVENT
DTSTART;VALUE=DATE:20220219
DTEND;VALUE=DATE:20220220
DTSTAMP:20260421T235830
CREATED:20210627T111747Z
LAST-MODIFIED:20210715T103406Z
UID:940-1645228800-1645315199@yaseenarabicschool.com
SUMMARY:Half Term 2022
DESCRIPTION:
URL:https://yaseenarabicschool.com/event/half-term-2022/
LOCATION:Yaseen Arabic School\, Preston Park Primary School\, College Road\, HA9 8RJ\, Wembley\, Wembley\, United Kingdom
CATEGORIES:Half term
END:VEVENT
BEGIN:VEVENT
DTSTART;VALUE=DATE:20220108
DTEND;VALUE=DATE:20220109
DTSTAMP:20260421T235830
CREATED:20210627T111646Z
LAST-MODIFIED:20210715T103413Z
UID:937-1641600000-1641686399@yaseenarabicschool.com
SUMMARY:1st day of 2nd term
DESCRIPTION:
URL:https://yaseenarabicschool.com/event/1st-day-of-2nd-term/
LOCATION:Yaseen Arabic School\, Preston Park Primary School\, College Road\, HA9 8RJ\, Wembley\, Wembley\, United Kingdom
CATEGORIES:Regular classes
END:VEVENT
BEGIN:VEVENT
DTSTART;VALUE=DATE:20211218
DTEND;VALUE=DATE:20211219
DTSTAMP:20260421T235830
CREATED:20210627T112336Z
LAST-MODIFIED:20210715T103419Z
UID:952-1639785600-1639871999@yaseenarabicschool.com
SUMMARY:Mid Year Exams
DESCRIPTION:
URL:https://yaseenarabicschool.com/event/mid-year-exams/
LOCATION:Yaseen Arabic School\, Preston Park Primary School\, College Road\, HA9 8RJ\, Wembley\, Wembley\, United Kingdom
CATEGORIES:Exams
END:VEVENT
BEGIN:VEVENT
DTSTART;VALUE=DATE:20211218
DTEND;VALUE=DATE:20211219
DTSTAMP:20260421T235830
CREATED:20210627T111540Z
LAST-MODIFIED:20210715T103425Z
UID:935-1639785600-1639871999@yaseenarabicschool.com
SUMMARY:Last day of 1st Term
DESCRIPTION:
URL:https://yaseenarabicschool.com/event/last-day-of-1st-term/
LOCATION:Yaseen Arabic School\, Preston Park Primary School\, College Road\, HA9 8RJ\, Wembley\, Wembley\, United Kingdom
CATEGORIES:Holidays
END:VEVENT
BEGIN:VEVENT
DTSTART;VALUE=DATE:20211030
DTEND;VALUE=DATE:20211031
DTSTAMP:20260421T235830
CREATED:20210627T111442Z
LAST-MODIFIED:20210715T103431Z
UID:933-1635552000-1635638399@yaseenarabicschool.com
SUMMARY:Half term 2021
DESCRIPTION:
URL:https://yaseenarabicschool.com/event/half-term-2021/
LOCATION:Yaseen Arabic School\, Preston Park Primary School\, College Road\, HA9 8RJ\, Wembley\, Wembley\, United Kingdom
CATEGORIES:Half term
END:VEVENT
BEGIN:VEVENT
DTSTART;VALUE=DATE:20211023
DTEND;VALUE=DATE:20211024
DTSTAMP:20260421T235830
CREATED:20210627T112227Z
LAST-MODIFIED:20210715T103437Z
UID:950-1634947200-1635033599@yaseenarabicschool.com
SUMMARY:Mawlid Nabawi Celebration
DESCRIPTION:
URL:https://yaseenarabicschool.com/event/mawlid-nabawi-celebration/
LOCATION:Yaseen Arabic School\, Preston Park Primary School\, College Road\, HA9 8RJ\, Wembley\, Wembley\, United Kingdom
CATEGORIES:Special events
END:VEVENT
BEGIN:VEVENT
DTSTART;VALUE=DATE:20210911
DTEND;VALUE=DATE:20210912
DTSTAMP:20260421T235830
CREATED:20210627T105009Z
LAST-MODIFIED:20210715T103441Z
UID:926-1631318400-1631404799@yaseenarabicschool.com
SUMMARY:First day of school
DESCRIPTION:
URL:https://yaseenarabicschool.com/event/first-day-of-school/
LOCATION:Yaseen Arabic School\, Preston Park Primary School\, College Road\, HA9 8RJ\, Wembley\, Wembley\, United Kingdom
CATEGORIES:Regular classes
END:VEVENT
BEGIN:VEVENT
DTSTART;VALUE=DATE:20210904
DTEND;VALUE=DATE:20210905
DTSTAMP:20260421T235830
CREATED:20210618T104452Z
LAST-MODIFIED:20210715T115108Z
UID:851-1630713600-1630799999@yaseenarabicschool.com
SUMMARY:Registration/Open Day
DESCRIPTION:
URL:https://yaseenarabicschool.com/event/registration-open-day/
LOCATION:Yaseen Arabic School\, Preston Park Primary School\, College Road\, HA9 8RJ\, Wembley\, Wembley\, United Kingdom
CATEGORIES:Academic Year
END:VEVENT
END:VCALENDAR