BEGIN:VCALENDAR
VERSION:2.0
PRODID:-//Yaseen Arabic School - ECPv5.8.0//NONSGML v1.0//EN
CALSCALE:GREGORIAN
METHOD:PUBLISH
X-WR-CALNAME:Yaseen Arabic School
X-ORIGINAL-URL:https://yaseenarabicschool.com
X-WR-CALDESC:Events for Yaseen Arabic School
BEGIN:VTIMEZONE
TZID:UTC
BEGIN:STANDARD
TZOFFSETFROM:+0000
TZOFFSETTO:+0000
TZNAME:UTC
DTSTART:20210101T000000
END:STANDARD
END:VTIMEZONE
BEGIN:VEVENT
DTSTART;VALUE=DATE:20220507
DTEND;VALUE=DATE:20220508
DTSTAMP:20260421T154039
CREATED:20210627T111924Z
LAST-MODIFIED:20210715T103347Z
UID:944-1651881600-1651967999@yaseenarabicschool.com
SUMMARY:1st day of 3rd Term
DESCRIPTION:
URL:https://yaseenarabicschool.com/event/1st-day-of-3rd-term/
LOCATION:Yaseen Arabic School\, Preston Park Primary School\, College Road\, HA9 8RJ\, Wembley\, Wembley\, United Kingdom
CATEGORIES:Regular classes
END:VEVENT
BEGIN:VEVENT
DTSTART;VALUE=DATE:20220108
DTEND;VALUE=DATE:20220109
DTSTAMP:20260421T154039
CREATED:20210627T111646Z
LAST-MODIFIED:20210715T103413Z
UID:937-1641600000-1641686399@yaseenarabicschool.com
SUMMARY:1st day of 2nd term
DESCRIPTION:
URL:https://yaseenarabicschool.com/event/1st-day-of-2nd-term/
LOCATION:Yaseen Arabic School\, Preston Park Primary School\, College Road\, HA9 8RJ\, Wembley\, Wembley\, United Kingdom
CATEGORIES:Regular classes
END:VEVENT
BEGIN:VEVENT
DTSTART;VALUE=DATE:20210911
DTEND;VALUE=DATE:20210912
DTSTAMP:20260421T154039
CREATED:20210627T105009Z
LAST-MODIFIED:20210715T103441Z
UID:926-1631318400-1631404799@yaseenarabicschool.com
SUMMARY:First day of school
DESCRIPTION:
URL:https://yaseenarabicschool.com/event/first-day-of-school/
LOCATION:Yaseen Arabic School\, Preston Park Primary School\, College Road\, HA9 8RJ\, Wembley\, Wembley\, United Kingdom
CATEGORIES:Regular classes
END:VEVENT
END:VCALENDAR