BEGIN:VCALENDAR
VERSION:2.0
PRODID:-//Yaseen Arabic School - ECPv5.8.0//NONSGML v1.0//EN
CALSCALE:GREGORIAN
METHOD:PUBLISH
X-WR-CALNAME:Yaseen Arabic School
X-ORIGINAL-URL:https://yaseenarabicschool.com
X-WR-CALDESC:Events for Yaseen Arabic School
BEGIN:VTIMEZONE
TZID:UTC
BEGIN:STANDARD
TZOFFSETFROM:+0000
TZOFFSETTO:+0000
TZNAME:UTC
DTSTART:20220101T000000
END:STANDARD
END:VTIMEZONE
BEGIN:VEVENT
DTSTART;VALUE=DATE:20220702
DTEND;VALUE=DATE:20220703
DTSTAMP:20260421T113104
CREATED:20210627T112536Z
LAST-MODIFIED:20210715T103334Z
UID:956-1656720000-1656806399@yaseenarabicschool.com
SUMMARY:End of Year Exams
DESCRIPTION:
URL:https://yaseenarabicschool.com/event/end-of-year-exams/
LOCATION:Yaseen Arabic School\, Preston Park Primary School\, College Road\, HA9 8RJ\, Wembley\, Wembley\, United Kingdom
CATEGORIES:Exams
END:VEVENT
END:VCALENDAR